BEGIN:VCALENDAR
VERSION:2.0
PRODID:-// - ECPv4.6//NONSGML v1.0//EN
CALSCALE:GREGORIAN
METHOD:PUBLISH
X-WR-CALNAME:
X-ORIGINAL-URL:http://Abjakultuurimaja.ee/uus
X-WR-CALDESC:Events for 
BEGIN:VEVENT
DTSTART;TZID=UTC+3:20181027T190000
DTEND;TZID=UTC+3:20181027T200000
DTSTAMP:20260421T231508
CREATED:20180827T093450Z
LAST-MODIFIED:20180917T134856Z
UID:3887-1540666800-1540670400@Abjakultuurimaja.ee
SUMMARY:Vincent Courtois trio(Prantsusmaa) kontsert. Vincent Courtois-tšello\, Daniel Erdmann-saksofon\, Robin Fincker-saksofon ja klarnet.
DESCRIPTION: \n
URL:http://Abjakultuurimaja.ee/uus/event/vincent-courtois-trioprantsusmaa-kontsert-vincent-courtois-tsello-daniel-erdmann-saksofon-robin-fincker-saksofon-ja-klarnet/
END:VEVENT
END:VCALENDAR