BEGIN:VCALENDAR
VERSION:2.0
PRODID:-// - ECPv4.6//NONSGML v1.0//EN
CALSCALE:GREGORIAN
METHOD:PUBLISH
X-WR-CALNAME:
X-ORIGINAL-URL:http://Abjakultuurimaja.ee/uus
X-WR-CALDESC:Events for 
BEGIN:VEVENT
DTSTART;TZID=UTC+3:20180831T170000
DTEND;TZID=UTC+3:20180831T190000
DTSTAMP:20260420T205741
CREATED:20180827T083454Z
LAST-MODIFIED:20180827T083454Z
UID:3867-1535734800-1535742000@Abjakultuurimaja.ee
SUMMARY:Ütleme üheskoos Sabrinale "Head aega"
DESCRIPTION: \n
URL:http://Abjakultuurimaja.ee/uus/event/utleme-uheskoos-sabrinale-head-aega/
END:VEVENT
END:VCALENDAR