BEGIN:VCALENDAR
VERSION:2.0
PRODID:-// - ECPv4.6//NONSGML v1.0//EN
CALSCALE:GREGORIAN
METHOD:PUBLISH
X-WR-CALNAME:
X-ORIGINAL-URL:http://Abjakultuurimaja.ee/uus
X-WR-CALDESC:Events for 
BEGIN:VEVENT
DTSTART;TZID=UTC+3:20180926T180000
DTEND;TZID=UTC+3:20180926T190000
DTSTAMP:20260421T035950
CREATED:20180917T115004Z
LAST-MODIFIED:20180917T115110Z
UID:3921-1537984800-1537988400@Abjakultuurimaja.ee
SUMMARY:Teemaõhtu „ Avasta Eestimaad“
DESCRIPTION: \n
URL:http://Abjakultuurimaja.ee/uus/event/teemaohtu-avasta-eestimaad/
END:VEVENT
END:VCALENDAR