BEGIN:VCALENDAR
VERSION:2.0
PRODID:-// - ECPv4.6//NONSGML v1.0//EN
CALSCALE:GREGORIAN
METHOD:PUBLISH
X-WR-CALNAME:
X-ORIGINAL-URL:http://Abjakultuurimaja.ee/uus
X-WR-CALDESC:Events for 
BEGIN:VEVENT
DTSTART;TZID=UTC+3:20191024T190000
DTEND;TZID=UTC+3:20191024T204700
DTSTAMP:20260422T153533
CREATED:20191009T141924Z
LAST-MODIFIED:20191009T141924Z
UID:4698-1571943600-1571950020@Abjakultuurimaja.ee
SUMMARY:Startupkomöödia "Ükssarvik"
DESCRIPTION: \nStartupkomöödia ÜKSSARVIK jutustab Liisa Pulga ja Henrik Kalmeti poolt kehastatud kahe noore iduettevõtja teekonnast “kodugaraažist” maailma tehnoloogia mekasse Silicon Valleysse. Tempokas film annab autentse ja värvika pildi tehnoloogiafirma tegemise võlust ja valust\, usaldamisest ja unistamisest\, hullusest ja hulljulgusest… inspiratsiooniks mõistagi kõik maailma Steve Jobsid\, Bill Gatesid\, Mark Zuckerbergid ja Elon Muskid. Kõik unistavad miljardist… \nLugu põhineb enam kui 30 reaalse Eesti startup-ettevõtja kohati uskumatutel ja humoorikatel juhtumistel ning kogemusel viimase 15 aasta jooksul. \nPilet 5.-/4.- \n  \n
URL:http://Abjakultuurimaja.ee/uus/event/startupkomoodia-ukssarvik/
END:VEVENT
END:VCALENDAR