BEGIN:VCALENDAR
VERSION:2.0
PRODID:-// - ECPv4.6//NONSGML v1.0//EN
CALSCALE:GREGORIAN
METHOD:PUBLISH
X-WR-CALNAME:
X-ORIGINAL-URL:http://Abjakultuurimaja.ee/uus
X-WR-CALDESC:Events for 
BEGIN:VEVENT
DTSTART;TZID=UTC+3:20190216T210000
DTEND;TZID=UTC+3:20190216T210000
DTSTAMP:20260424T200316
CREATED:20190102T152741Z
LAST-MODIFIED:20190214T153555Z
UID:4126-1550350800-1550350800@Abjakultuurimaja.ee
SUMMARY:Sõbrapäevapidu ansambliga S.E.K.S.(Sünkroonujujad Endisest Kastepiisa Seltsimajast)
DESCRIPTION: \n
URL:http://Abjakultuurimaja.ee/uus/event/peoohtu-ansambliga-s-e-k-s-sunkroonujujad-endisest-kastepiisa-seltsimajast/
END:VEVENT
END:VCALENDAR