BEGIN:VCALENDAR
VERSION:2.0
PRODID:-// - ECPv4.6//NONSGML v1.0//EN
CALSCALE:GREGORIAN
METHOD:PUBLISH
X-WR-CALNAME:
X-ORIGINAL-URL:http://Abjakultuurimaja.ee/uus
X-WR-CALDESC:Events for 
BEGIN:VEVENT
DTSTART;TZID=UTC+3:20181219T110000
DTEND;TZID=UTC+3:20181219T170000
DTSTAMP:20260423T073058
CREATED:20180827T121153Z
LAST-MODIFIED:20180917T141306Z
UID:3904-1545217200-1545238800@Abjakultuurimaja.ee
SUMMARY:Mulgi valla Abja piirkonna pensionäride jõulupidu
DESCRIPTION:
URL:http://Abjakultuurimaja.ee/uus/event/pensionaride-joulupidu/
END:VEVENT
END:VCALENDAR