BEGIN:VCALENDAR
VERSION:2.0
PRODID:-// - ECPv4.6//NONSGML v1.0//EN
CALSCALE:GREGORIAN
METHOD:PUBLISH
X-WR-CALNAME:
X-ORIGINAL-URL:http://Abjakultuurimaja.ee/uus
X-WR-CALDESC:Events for 
BEGIN:VEVENT
DTSTART;TZID=UTC+3:20180928T124500
DTEND;TZID=UTC+3:20180928T160000
DTSTAMP:20260421T073113
CREATED:20180919T140035Z
LAST-MODIFIED:20180921T125801Z
UID:3977-1538138700-1538150400@Abjakultuurimaja.ee
SUMMARY:Mulkide suvelõpuseminar
DESCRIPTION: \n
URL:http://Abjakultuurimaja.ee/uus/event/mulkide-suvelopuseminar/
END:VEVENT
END:VCALENDAR