BEGIN:VCALENDAR
VERSION:2.0
PRODID:-// - ECPv4.6//NONSGML v1.0//EN
CALSCALE:GREGORIAN
METHOD:PUBLISH
X-WR-CALNAME:
X-ORIGINAL-URL:http://Abjakultuurimaja.ee/uus
X-WR-CALDESC:Events for 
BEGIN:VEVENT
DTSTART;TZID=UTC+3:20181216T110000
DTEND;TZID=UTC+3:20181216T120000
DTSTAMP:20260423T023936
CREATED:20180917T141234Z
LAST-MODIFIED:20180917T141234Z
UID:3970-1544958000-1544961600@Abjakultuurimaja.ee
SUMMARY:Mulgi valla Abja piirkonna koduste laste jõulupidu
DESCRIPTION:
URL:http://Abjakultuurimaja.ee/uus/event/mulgi-valla-abja-piirkonna-koduste-laste-joulupidu/
END:VEVENT
END:VCALENDAR