BEGIN:VCALENDAR
VERSION:2.0
PRODID:-// - ECPv4.6//NONSGML v1.0//EN
CALSCALE:GREGORIAN
METHOD:PUBLISH
X-WR-CALNAME:
X-ORIGINAL-URL:http://Abjakultuurimaja.ee/uus
X-WR-CALDESC:Events for 
BEGIN:VEVENT
DTSTART;TZID=UTC+3:20181123T124500
DTEND;TZID=UTC+3:20181123T160000
DTSTAMP:20260422T113951
CREATED:20180919T145628Z
LAST-MODIFIED:20181116T085616Z
UID:3979-1542977100-1542988800@Abjakultuurimaja.ee
SUMMARY:Mulkide suvelõpuseminari jätkuüritus
DESCRIPTION: \n
URL:http://Abjakultuurimaja.ee/uus/event/mulgi-rahvakombed-ja-ajaloo-esitlused/
END:VEVENT
END:VCALENDAR