BEGIN:VCALENDAR
VERSION:2.0
PRODID:-// - ECPv4.6//NONSGML v1.0//EN
CALSCALE:GREGORIAN
METHOD:PUBLISH
X-WR-CALNAME:
X-ORIGINAL-URL:http://Abjakultuurimaja.ee/uus
X-WR-CALDESC:Events for 
BEGIN:VEVENT
DTSTART;TZID=UTC+3:20190421T100000
DTEND;TZID=UTC+3:20190421T160000
DTSTAMP:20260424T031456
CREATED:20190220T090944Z
LAST-MODIFIED:20190220T090944Z
UID:4285-1555840800-1555862400@Abjakultuurimaja.ee
SUMMARY:Mulgi male 2019 IV etapp
DESCRIPTION: \n
URL:http://Abjakultuurimaja.ee/uus/event/mulgi-male-2019-iv-etapp/
END:VEVENT
END:VCALENDAR