BEGIN:VCALENDAR
VERSION:2.0
PRODID:-// - ECPv4.6//NONSGML v1.0//EN
CALSCALE:GREGORIAN
METHOD:PUBLISH
X-WR-CALNAME:
X-ORIGINAL-URL:http://Abjakultuurimaja.ee/uus
X-WR-CALDESC:Events for 
BEGIN:VEVENT
DTSTART;TZID=UTC+3:20190214T180000
DTEND;TZID=UTC+3:20190214T193000
DTSTAMP:20260424T153034
CREATED:20190116T154423Z
LAST-MODIFIED:20190116T154423Z
UID:4201-1550167200-1550172600@Abjakultuurimaja.ee
SUMMARY:Mulgi keele ja kultuuri õpe Abja raamatukogus
DESCRIPTION:
URL:http://Abjakultuurimaja.ee/uus/event/mulgi-keele-ja-kultuuri-ope-abja-raamatukogus/
END:VEVENT
END:VCALENDAR