BEGIN:VCALENDAR
VERSION:2.0
PRODID:-// - ECPv4.6//NONSGML v1.0//EN
CALSCALE:GREGORIAN
METHOD:PUBLISH
X-WR-CALNAME:
X-ORIGINAL-URL:http://Abjakultuurimaja.ee/uus
X-WR-CALDESC:Events for 
BEGIN:VEVENT
DTSTART;TZID=UTC+3:20181020T120000
DTEND;TZID=UTC+3:20181020T173000
DTSTAMP:20260421T180608
CREATED:20181001T095633Z
LAST-MODIFIED:20181001T095633Z
UID:4004-1540036800-1540056600@Abjakultuurimaja.ee
SUMMARY:Meelit Männiste 83.sünniaastapäevale pühendatud XV-ndad mälestusvõistlused kabes
DESCRIPTION:
URL:http://Abjakultuurimaja.ee/uus/event/meelit-manniste-83-sunniaastapaevale-puhendatud-xv-ndad-malestusvoistlused-kabes/
END:VEVENT
END:VCALENDAR