BEGIN:VCALENDAR
VERSION:2.0
PRODID:-// - ECPv4.6//NONSGML v1.0//EN
CALSCALE:GREGORIAN
METHOD:PUBLISH
X-WR-CALNAME:
X-ORIGINAL-URL:http://Abjakultuurimaja.ee/uus
X-WR-CALDESC:Events for 
BEGIN:VEVENT
DTSTART;TZID=UTC+2:20240919T170000
DTEND;TZID=UTC+2:20240919T210000
DTSTAMP:20260423T042300
CREATED:20240913T132032Z
LAST-MODIFIED:20240913T132032Z
UID:7830-1726765200-1726779600@Abjakultuurimaja.ee
SUMMARY:Meelespea klubi peoõhtu
DESCRIPTION: \n
URL:http://Abjakultuurimaja.ee/uus/event/meelespea-klubi-peoohtu/
END:VEVENT
END:VCALENDAR