BEGIN:VCALENDAR
VERSION:2.0
PRODID:-// - ECPv4.6//NONSGML v1.0//EN
CALSCALE:GREGORIAN
METHOD:PUBLISH
X-WR-CALNAME:
X-ORIGINAL-URL:http://Abjakultuurimaja.ee/uus
X-WR-CALDESC:Events for 
BEGIN:VEVENT
DTSTART;TZID=UTC+3:20190115T140000
DTEND;TZID=UTC+3:20190115T143000
DTSTAMP:20260424T000114
CREATED:20181228T131920Z
LAST-MODIFIED:20181228T131920Z
UID:4110-1547560800-1547562600@Abjakultuurimaja.ee
SUMMARY:Looduse Energia tervisetoodete müük
DESCRIPTION:
URL:http://Abjakultuurimaja.ee/uus/event/looduse-energia-tervisetoodete-muuk-12/
END:VEVENT
END:VCALENDAR