BEGIN:VCALENDAR
VERSION:2.0
PRODID:-// - ECPv4.6//NONSGML v1.0//EN
CALSCALE:GREGORIAN
METHOD:PUBLISH
X-WR-CALNAME:
X-ORIGINAL-URL:http://Abjakultuurimaja.ee/uus
X-WR-CALDESC:Events for 
BEGIN:VEVENT
DTSTART;TZID=UTC+3:20181210T140000
DTEND;TZID=UTC+3:20181210T143000
DTSTAMP:20260422T195238
CREATED:20181104T131025Z
LAST-MODIFIED:20181104T131025Z
UID:4039-1544450400-1544452200@Abjakultuurimaja.ee
SUMMARY:Looduse Energia tervisetoodete müük
DESCRIPTION:
URL:http://Abjakultuurimaja.ee/uus/event/looduse-energia-tervisetoodete-muuk-11/
END:VEVENT
END:VCALENDAR