BEGIN:VCALENDAR
VERSION:2.0
PRODID:-// - ECPv4.6//NONSGML v1.0//EN
CALSCALE:GREGORIAN
METHOD:PUBLISH
X-WR-CALNAME:
X-ORIGINAL-URL:http://Abjakultuurimaja.ee/uus
X-WR-CALDESC:Events for 
BEGIN:VEVENT
DTSTART;TZID=UTC+2:20260508T190000
DTEND;TZID=UTC+2:20260508T190000
DTSTAMP:20260419T215513
CREATED:20260324T134820Z
LAST-MODIFIED:20260406T083621Z
UID:8894-1778266800-1778266800@Abjakultuurimaja.ee
SUMMARY:Kontserdisari „Muusika 108 Eestimaale“ kontsert - Matthieu Metzger – saksofon\, Paul Brousseau - klaver\, Prantsusmaa.
DESCRIPTION: \n
URL:http://Abjakultuurimaja.ee/uus/event/kontserdisari-muusika-108-eestimaale-kontsert-allikad-sources-matthieu-metzger-saksofon-paul-brousseau-klaver-prantsusmaa/
END:VEVENT
END:VCALENDAR