BEGIN:VCALENDAR
VERSION:2.0
PRODID:-// - ECPv4.6//NONSGML v1.0//EN
CALSCALE:GREGORIAN
METHOD:PUBLISH
X-WR-CALNAME:
X-ORIGINAL-URL:http://Abjakultuurimaja.ee/uus
X-WR-CALDESC:Events for 
BEGIN:VEVENT
DTSTART;TZID=UTC+3:20190130T170000
DTEND;TZID=UTC+3:20190130T181800
DTSTAMP:20260424T051656
CREATED:20190102T145818Z
LAST-MODIFIED:20190107T152634Z
UID:4117-1548867600-1548872280@Abjakultuurimaja.ee
SUMMARY:Kogupere animafilm "Lotte ja kadunud lohed"
DESCRIPTION: \n
URL:http://Abjakultuurimaja.ee/uus/event/kogupere-animafilm-lotte-ja-kadunud-lohed/
END:VEVENT
END:VCALENDAR