BEGIN:VCALENDAR
VERSION:2.0
PRODID:-// - ECPv4.6//NONSGML v1.0//EN
CALSCALE:GREGORIAN
METHOD:PUBLISH
X-WR-CALNAME:
X-ORIGINAL-URL:http://Abjakultuurimaja.ee/uus
X-WR-CALDESC:Events for 
BEGIN:VEVENT
DTSTART;TZID=UTC+2:20260528T170000
DTEND;TZID=UTC+2:20260528T170000
DTSTAMP:20260420T024145
CREATED:20260324T135308Z
LAST-MODIFIED:20260324T135308Z
UID:8901-1779987600-1779987600@Abjakultuurimaja.ee
SUMMARY:Klubi Meelespea peoõhtu
DESCRIPTION:
URL:http://Abjakultuurimaja.ee/uus/event/klubi-meelespea-peoohtu-56/
END:VEVENT
END:VCALENDAR