BEGIN:VCALENDAR
VERSION:2.0
PRODID:-// - ECPv4.6//NONSGML v1.0//EN
CALSCALE:GREGORIAN
METHOD:PUBLISH
X-WR-CALNAME:
X-ORIGINAL-URL:http://Abjakultuurimaja.ee/uus
X-WR-CALDESC:Events for 
BEGIN:VEVENT
DTSTART;TZID=UTC+2:20260423T170000
DTEND;TZID=UTC+2:20260423T170000
DTSTAMP:20260419T200949
CREATED:20260324T134652Z
LAST-MODIFIED:20260402T133610Z
UID:8892-1776963600-1776963600@Abjakultuurimaja.ee
SUMMARY:Klubi Meelespea peoõhtu
DESCRIPTION: \n
URL:http://Abjakultuurimaja.ee/uus/event/klubi-meelespea-peoohtu-55/
END:VEVENT
END:VCALENDAR