BEGIN:VCALENDAR
VERSION:2.0
PRODID:-// - ECPv4.6//NONSGML v1.0//EN
CALSCALE:GREGORIAN
METHOD:PUBLISH
X-WR-CALNAME:
X-ORIGINAL-URL:http://Abjakultuurimaja.ee/uus
X-WR-CALDESC:Events for 
BEGIN:VEVENT
DTSTART;TZID=UTC+2:20260226T170000
DTEND;TZID=UTC+2:20260226T210000
DTSTAMP:20260420T103412
CREATED:20260205T152206Z
LAST-MODIFIED:20260210T114928Z
UID:8802-1772125200-1772139600@Abjakultuurimaja.ee
SUMMARY:Klubi Meelespea peoõhtu
DESCRIPTION: \n
URL:http://Abjakultuurimaja.ee/uus/event/klubi-meelespea-peoohtu-53/
END:VEVENT
END:VCALENDAR