BEGIN:VCALENDAR
VERSION:2.0
PRODID:-// - ECPv4.6//NONSGML v1.0//EN
CALSCALE:GREGORIAN
METHOD:PUBLISH
X-WR-CALNAME:
X-ORIGINAL-URL:http://Abjakultuurimaja.ee/uus
X-WR-CALDESC:Events for 
BEGIN:VEVENT
DTSTART;TZID=UTC+3:20201126T170000
DTEND;TZID=UTC+3:20201126T210000
DTSTAMP:20260423T102004
CREATED:20200629T105629Z
LAST-MODIFIED:20201117T134939Z
UID:5114-1606410000-1606424400@Abjakultuurimaja.ee
SUMMARY:Klubi Meelespea peoõhtu-jääb ära
DESCRIPTION:Kohtumine jutuvestja Ena Metsaga. \nTantsuks mängib ans. De La Rosa. \n
URL:http://Abjakultuurimaja.ee/uus/event/klubi-meelespea-peoohtu-31/
END:VEVENT
END:VCALENDAR