BEGIN:VCALENDAR
VERSION:2.0
PRODID:-// - ECPv4.6//NONSGML v1.0//EN
CALSCALE:GREGORIAN
METHOD:PUBLISH
X-WR-CALNAME:
X-ORIGINAL-URL:http://Abjakultuurimaja.ee/uus
X-WR-CALDESC:Events for 
BEGIN:VEVENT
DTSTART;TZID=UTC+3:20190425T170000
DTEND;TZID=UTC+3:20190425T210000
DTSTAMP:20260423T220542
CREATED:20190220T094751Z
LAST-MODIFIED:20190220T094751Z
UID:4290-1556211600-1556226000@Abjakultuurimaja.ee
SUMMARY:Klubi "Meelespea" peoõhtu
DESCRIPTION:
URL:http://Abjakultuurimaja.ee/uus/event/klubi-meelespea-peoohtu-24/
END:VEVENT
END:VCALENDAR