BEGIN:VCALENDAR
VERSION:2.0
PRODID:-// - ECPv4.6//NONSGML v1.0//EN
CALSCALE:GREGORIAN
METHOD:PUBLISH
X-WR-CALNAME:
X-ORIGINAL-URL:http://Abjakultuurimaja.ee/uus
X-WR-CALDESC:Events for 
BEGIN:VEVENT
DTSTART;TZID=UTC+3:20181129T170000
DTEND;TZID=UTC+3:20181129T210000
DTSTAMP:20260422T132025
CREATED:20180827T094355Z
LAST-MODIFIED:20181121T120833Z
UID:3893-1543510800-1543525200@Abjakultuurimaja.ee
SUMMARY:Klubi "Meelespea" peoõhtu
DESCRIPTION:Kohtumine Mulgi vallavanem Peeter Rahneli ja Jaak Aab`iga. Tantsuks ans. De La Rosa \n
URL:http://Abjakultuurimaja.ee/uus/event/klubi-meelespea-peoohtu-20/
END:VEVENT
END:VCALENDAR