BEGIN:VCALENDAR
VERSION:2.0
PRODID:-// - ECPv4.6//NONSGML v1.0//EN
CALSCALE:GREGORIAN
METHOD:PUBLISH
X-WR-CALNAME:
X-ORIGINAL-URL:http://Abjakultuurimaja.ee/uus
X-WR-CALDESC:Events for 
BEGIN:VEVENT
DTSTART;TZID=UTC+3:20190504T220000
DTEND;TZID=UTC+3:20190505T030000
DTSTAMP:20260423T203744
CREATED:20190423T130625Z
LAST-MODIFIED:20190423T130625Z
UID:4418-1557007200-1557025200@Abjakultuurimaja.ee
SUMMARY:Kevadpidu
DESCRIPTION: \n
URL:http://Abjakultuurimaja.ee/uus/event/kevadpidu/
END:VEVENT
END:VCALENDAR