BEGIN:VCALENDAR
VERSION:2.0
PRODID:-// - ECPv4.6//NONSGML v1.0//EN
CALSCALE:GREGORIAN
METHOD:PUBLISH
X-WR-CALNAME:
X-ORIGINAL-URL:http://Abjakultuurimaja.ee/uus
X-WR-CALDESC:Events for 
BEGIN:VEVENT
DTSTART;TZID=UTC+3:20181005T190000
DTEND;TZID=UTC+3:20181005T200000
DTSTAMP:20260421T123929
CREATED:20180827T084755Z
LAST-MODIFIED:20180906T082058Z
UID:3879-1538766000-1538769600@Abjakultuurimaja.ee
SUMMARY:Kalle Randalu klaverikontsert
DESCRIPTION: \n
URL:http://Abjakultuurimaja.ee/uus/event/kalle-randalu-klaverikontsert/
END:VEVENT
END:VCALENDAR