BEGIN:VCALENDAR
VERSION:2.0
PRODID:-// - ECPv4.6//NONSGML v1.0//EN
CALSCALE:GREGORIAN
METHOD:PUBLISH
X-WR-CALNAME:
X-ORIGINAL-URL:http://Abjakultuurimaja.ee/uus
X-WR-CALDESC:Events for 
BEGIN:VEVENT
DTSTART;TZID=UTC+2:20241117T100000
DTEND;TZID=UTC+2:20241117T140000
DTSTAMP:20260420T135041
CREATED:20241107T133543Z
LAST-MODIFIED:20241107T133543Z
UID:7963-1731837600-1731852000@Abjakultuurimaja.ee
SUMMARY:Kalendriturniir males
DESCRIPTION: \n
URL:http://Abjakultuurimaja.ee/uus/event/kalendriturniir-males-5/
END:VEVENT
END:VCALENDAR