BEGIN:VCALENDAR
VERSION:2.0
PRODID:-// - ECPv4.6//NONSGML v1.0//EN
CALSCALE:GREGORIAN
METHOD:PUBLISH
X-WR-CALNAME:
X-ORIGINAL-URL:http://Abjakultuurimaja.ee/uus
X-WR-CALDESC:Events for 
BEGIN:VEVENT
DTSTART;TZID=UTC+2:20241130T140000
DTEND;TZID=UTC+2:20241130T180000
DTSTAMP:20260420T102556
CREATED:20241114T123046Z
LAST-MODIFIED:20241115T094832Z
UID:7973-1732975200-1732989600@Abjakultuurimaja.ee
SUMMARY:Jõuluootuse laat. Mulgi valla kooride kontsert.
DESCRIPTION: \n
URL:http://Abjakultuurimaja.ee/uus/event/jouluootuse-laat-mulgi-valla-kooride-kontsert/
END:VEVENT
END:VCALENDAR