BEGIN:VCALENDAR
VERSION:2.0
PRODID:-// - ECPv4.6//NONSGML v1.0//EN
CALSCALE:GREGORIAN
METHOD:PUBLISH
X-WR-CALNAME:
X-ORIGINAL-URL:http://Abjakultuurimaja.ee/uus
X-WR-CALDESC:Events for 
BEGIN:VEVENT
DTSTART;TZID=UTC+2:20241215T150000
DTEND;TZID=UTC+2:20241215T160000
DTSTAMP:20260420T101916
CREATED:20241114T123914Z
LAST-MODIFIED:20241202T082406Z
UID:7979-1734274800-1734278400@Abjakultuurimaja.ee
SUMMARY:III advendikontsert
DESCRIPTION: \n
URL:http://Abjakultuurimaja.ee/uus/event/iii-advendikontsert-2/
END:VEVENT
END:VCALENDAR