BEGIN:VCALENDAR
VERSION:2.0
PRODID:-// - ECPv4.6//NONSGML v1.0//EN
CALSCALE:GREGORIAN
METHOD:PUBLISH
X-WR-CALNAME:
X-ORIGINAL-URL:http://Abjakultuurimaja.ee/uus
X-WR-CALDESC:Events for 
BEGIN:VEVENT
DTSTART;TZID=UTC+3:20181216T150000
DTEND;TZID=UTC+3:20181216T160000
DTSTAMP:20260423T041917
CREATED:20180827T115726Z
LAST-MODIFIED:20180917T140856Z
UID:3900-1544972400-1544976000@Abjakultuurimaja.ee
SUMMARY:III advendikontsert Abja Gümnaasiumilt
DESCRIPTION:
URL:http://Abjakultuurimaja.ee/uus/event/iii-advendi-tahistamine/
END:VEVENT
END:VCALENDAR