BEGIN:VCALENDAR
VERSION:2.0
PRODID:-// - ECPv4.6//NONSGML v1.0//EN
CALSCALE:GREGORIAN
METHOD:PUBLISH
X-WR-CALNAME:
X-ORIGINAL-URL:http://Abjakultuurimaja.ee/uus
X-WR-CALDESC:Events for 
BEGIN:VEVENT
DTSTART;TZID=UTC+3:20181114T180000
DTEND;TZID=UTC+3:20181114T190200
DTSTAMP:20260422T100806
CREATED:20181029T154501Z
LAST-MODIFIED:20181031T130158Z
UID:4026-1542218400-1542222120@Abjakultuurimaja.ee
SUMMARY:Film " Tuulte tahutud maa "
DESCRIPTION: \n
URL:http://Abjakultuurimaja.ee/uus/event/film-tuulte-tahutud-maa/
END:VEVENT
END:VCALENDAR