BEGIN:VCALENDAR
VERSION:2.0
PRODID:-// - ECPv4.6//NONSGML v1.0//EN
CALSCALE:GREGORIAN
METHOD:PUBLISH
X-WR-CALNAME:
X-ORIGINAL-URL:http://Abjakultuurimaja.ee/uus
X-WR-CALDESC:Events for 
BEGIN:VEVENT
DTSTART;TZID=UTC+3:20181205T180000
DTEND;TZID=UTC+3:20181205T194000
DTSTAMP:20260422T163046
CREATED:20181120T155439Z
LAST-MODIFIED:20181120T155439Z
UID:4064-1544032800-1544038800@Abjakultuurimaja.ee
SUMMARY:Film "Mihkel"
DESCRIPTION: \n
URL:http://Abjakultuurimaja.ee/uus/event/film-mihkel/
END:VEVENT
END:VCALENDAR