BEGIN:VCALENDAR
VERSION:2.0
PRODID:-// - ECPv4.6//NONSGML v1.0//EN
CALSCALE:GREGORIAN
METHOD:PUBLISH
X-WR-CALNAME:
X-ORIGINAL-URL:http://Abjakultuurimaja.ee/uus
X-WR-CALDESC:Events for 
BEGIN:VEVENT
DTSTART;TZID=UTC+3:20190227T180000
DTEND;TZID=UTC+3:20190227T193000
DTSTAMP:20260425T041303
CREATED:20190211T100357Z
LAST-MODIFIED:20190211T100357Z
UID:4217-1551290400-1551295800@Abjakultuurimaja.ee
SUMMARY:Film "Klassikokkutulek 3: Ristisad"
DESCRIPTION: \nTriloogia viimane osa KLASSIKOKKUTULEK 3: RISTIISAD on filmisaaga pöörane lõppsirge\, kus häbenemiseks pole aega ning risti ei lööda ette mitte millegi ees. Kolm parimat sõpra – Mart\, Andres ja Toomas\, tulevad tagasi. Nagu ikka\, on neil on pakkuda geniaalne lahendus nii oma eluprobleemidele\, kui filmisõbra vabale ajale. \nKui vaataja kuldse kolmikuga viimati kohtus\, olid meeste murepilved lahtumas ja naistejamad rahuldavalt lahenenud – Toomas jõudis tanu alla\, Mart leidis tagasitee abikaasa rüppe ning Andres saanud lõpuks ühe kohtingust huvitatud neiu telefoninumbri. Loo viimase peatüki alguses aga leiame kolm klassivenda olukorrast\, kus kuri saatus on kõige hullemini asunud Andrest väntsutama. Alustades eksnaise Anne uuest imalalt sulnist pereidüllist koos nägusa rikkurist abikaasa ning vastsündinud beebiga\, kuni ootamatult kaelasadanud kohustusest hooldada invaliidistunud isa. Miks küll on teistel elu kõige ilusam just siis\, kui sinul kõige hullemini rapib? Kui Anne teeb Andresele ettepaneku hakata beebi ristiisaks\, otsustab vapper mees leida ristsetele minekuks oma käevangu maailma kauneima kaaslanna. Sünnib äärmiselt loogiline plaan suunduda naisejahile tantralaagrisse. Pakkinud kaasa ratastoolis isa ja suured lootused\, alustab Andres koos kaimude Toomase ja Mardiga stiihilist amokki läbi Eesti kuuma suve.  \nPilet 5€/4€ \nFilmi pikkus: 1h 30min \n
URL:http://Abjakultuurimaja.ee/uus/event/film-klassikokkutulek-3-ristisad/
LOCATION:Pärnu mnt 28\, Abja-Paluoja\, Viljandimaa\, 69403\, Estonia
END:VEVENT
END:VCALENDAR