BEGIN:VCALENDAR
VERSION:2.0
PRODID:-// - ECPv4.6//NONSGML v1.0//EN
CALSCALE:GREGORIAN
METHOD:PUBLISH
X-WR-CALNAME:
X-ORIGINAL-URL:http://Abjakultuurimaja.ee/uus
X-WR-CALDESC:Events for 
BEGIN:VEVENT
DTSTART;TZID=UTC+3:20190410T190000
DTEND;TZID=UTC+3:20190410T204100
DTSTAMP:20260424T114424
CREATED:20190401T103536Z
LAST-MODIFIED:20190401T103536Z
UID:4378-1554922800-1554928860@Abjakultuurimaja.ee
SUMMARY:Film "Islandi amatsoon"
DESCRIPTION: \nSüdamliku ja humoorika linaloo hingeks on 49-aastane koorijuht Halla\, Islandi väikelinna lugupeetud kodanik\, kes toob kõigile naeratuse näole. Peaaegu keegi ei tea\, et ta on ka salapärane vibuga naine mägedest\, kes on Islandi looduse säilimise nimel alustanud võitlust tööstuse pealetungi vastu. Halla eraelugi on üsna keeruline ‒ ta on just saanud teate\, et taotlus Ukrainast orb lapsendada on läbi läinud\, samas on ta kaksikõde Ása lahkumas kodumaalt Indiasse eneseotsingutele. Kui riik investeeringute kaotuse kartuses tagasihoidliku maailmaparandaja sõjakäigule vastupropagandat tegema hakkab\, otsustab Halla korraldada viimase vastulöögi. \nOma debüütfilmiga “Hobustest ja inimestest” publiku ning kriitikute poolehoiu võitnud Erlingsson oma uues filmis samuti kokku põiminud Islandi inimeste elu koomilised küljed\, looduse ilu ja maitsestanud neid muusikaliste vahepaladega. \nPilet 5.-/3.- \n
URL:http://Abjakultuurimaja.ee/uus/event/film-islandi-amatsoon/
END:VEVENT
END:VCALENDAR