BEGIN:VCALENDAR
VERSION:2.0
PRODID:-// - ECPv4.6//NONSGML v1.0//EN
CALSCALE:GREGORIAN
METHOD:PUBLISH
X-WR-CALNAME:
X-ORIGINAL-URL:http://Abjakultuurimaja.ee/uus
X-WR-CALDESC:Events for 
BEGIN:VEVENT
DTSTART;TZID=UTC+3:20181222T160000
DTEND;TZID=UTC+3:20181222T173000
DTSTAMP:20260423T104223
CREATED:20181121T114315Z
LAST-MODIFIED:20181121T114315Z
UID:4070-1545494400-1545499800@Abjakultuurimaja.ee
SUMMARY:Film "Eia jõulud Tondikakul"
DESCRIPTION: \nSeiklusrikas laste jõulufilm kümneaastasest Eiast\, kelle plaanid võtavad ootamatu pöörde\, kui linnatüdruk viiakse talvevaheajaks ürgse loodusega salapärasesse Lõuna-Eesti tallu. Eia ei oska esialgu aimatagi\, et õige pea asub ta päästma hukule määratud põlismetsa\, kokku viima kaht armastavat inimest ning lahti harutama oma pere kiivalt hoitud saladust. \n\nRežissöör: Anu Aun\nOsades: Paula Rits\, Siim Oskar Ots\, Märt Pius\, Priit Pius\, Priit Võigemast\, Mirtel Pohla\, Liis Lemsalu\n\nFilmi pikkus: 1h 30 min\n\nPilet 5.-/õpilane\, pensionär 4.-\n\n\n\n\n  \n
URL:http://Abjakultuurimaja.ee/uus/event/film-eia-joulud-tondikakul/
END:VEVENT
END:VCALENDAR