BEGIN:VCALENDAR
VERSION:2.0
PRODID:-// - ECPv4.6//NONSGML v1.0//EN
CALSCALE:GREGORIAN
METHOD:PUBLISH
X-WR-CALNAME:
X-ORIGINAL-URL:http://Abjakultuurimaja.ee/uus
X-WR-CALDESC:Events for 
BEGIN:VEVENT
DTSTART;TZID=UTC+3:20181024T180000
DTEND;TZID=UTC+3:20181024T200300
DTSTAMP:20260421T194057
CREATED:20181009T144204Z
LAST-MODIFIED:20181009T144426Z
UID:4007-1540404000-1540411380@Abjakultuurimaja.ee
SUMMARY:Film ”Astrid Lindgreni rääkimata lugu”
DESCRIPTION: \n
URL:http://Abjakultuurimaja.ee/uus/event/film-astrid-lindgreni-raakimata-lugu/
END:VEVENT
END:VCALENDAR