BEGIN:VCALENDAR
VERSION:2.0
PRODID:-// - ECPv4.6//NONSGML v1.0//EN
CALSCALE:GREGORIAN
METHOD:PUBLISH
X-WR-CALNAME:
X-ORIGINAL-URL:http://Abjakultuurimaja.ee/uus
X-WR-CALDESC:Events for 
BEGIN:VEVENT
DTSTART;TZID=UTC+3:20181214T180000
DTEND;TZID=UTC+3:20181214T200000
DTSTAMP:20260422T231455
CREATED:20181120T154721Z
LAST-MODIFIED:20181120T154721Z
UID:4062-1544810400-1544817600@Abjakultuurimaja.ee
SUMMARY:EKRE kohtumine rahvaga
DESCRIPTION:
URL:http://Abjakultuurimaja.ee/uus/event/ekre-kohtumine-rahvaga/
END:VEVENT
END:VCALENDAR