BEGIN:VCALENDAR
VERSION:2.0
PRODID:-// - ECPv4.6//NONSGML v1.0//EN
CALSCALE:GREGORIAN
METHOD:PUBLISH
X-WR-CALNAME:
X-ORIGINAL-URL:http://Abjakultuurimaja.ee/uus
X-WR-CALDESC:Events for 
BEGIN:VEVENT
DTSTART;TZID=UTC+2:20260224T120000
DTEND;TZID=UTC+2:20260224T120000
DTSTAMP:20260420T084955
CREATED:20260122T145125Z
LAST-MODIFIED:20260205T154354Z
UID:8776-1771934400-1771934400@Abjakultuurimaja.ee
SUMMARY:Eesti Vabariik 108 tähistamine. Pidulik kontsert - aktus.
DESCRIPTION: \n
URL:http://Abjakultuurimaja.ee/uus/event/eesti-vabariik-108-tahistamine-pidulik-kontsert-aktus-mulgi-valla-tunnustuste-uleandmine/
END:VEVENT
END:VCALENDAR