BEGIN:VCALENDAR
VERSION:2.0
PRODID:-// - ECPv4.6//NONSGML v1.0//EN
CALSCALE:GREGORIAN
METHOD:PUBLISH
X-WR-CALNAME:
X-ORIGINAL-URL:http://Abjakultuurimaja.ee/uus
X-WR-CALDESC:Events for 
BEGIN:VEVENT
DTSTART;TZID=UTC+3:20210224T110000
DTEND;TZID=UTC+3:20210224T110000
DTSTAMP:20260420T103412
CREATED:20210122T130622Z
LAST-MODIFIED:20210210T155052Z
UID:5408-1614164400-1614164400@Abjakultuurimaja.ee
SUMMARY:Eesti Vabariigi 103. aastapäeva tähistamine
DESCRIPTION: \n  \n
URL:http://Abjakultuurimaja.ee/uus/event/eesti-vabariigi-103-aastapaeva-tahistamine-2/
END:VEVENT
END:VCALENDAR