BEGIN:VCALENDAR
VERSION:2.0
PRODID:-// - ECPv4.6//NONSGML v1.0//EN
CALSCALE:GREGORIAN
METHOD:PUBLISH
X-WR-CALNAME:
X-ORIGINAL-URL:http://Abjakultuurimaja.ee/uus
X-WR-CALDESC:Events for 
BEGIN:VEVENT
DTSTART;TZID=UTC+3:20190224T100000
DTEND;TZID=UTC+3:20190224T130000
DTSTAMP:20260425T005633
CREATED:20190102T153401Z
LAST-MODIFIED:20190211T101535Z
UID:4129-1551002400-1551013200@Abjakultuurimaja.ee
SUMMARY:Eesti Vabariigi 101.aastapäeva tähistamine
DESCRIPTION: \n
URL:http://Abjakultuurimaja.ee/uus/event/eesti-vabariigi-101-aastapaeva-tahistamine/
LOCATION:Pärnu mnt 28\, Abja-Paluoja\, Viljandimaa\, 69403\, Estonia
END:VEVENT
END:VCALENDAR