BEGIN:VCALENDAR
VERSION:2.0
PRODID:-// - ECPv4.6//NONSGML v1.0//EN
CALSCALE:GREGORIAN
METHOD:PUBLISH
X-WR-CALNAME:
X-ORIGINAL-URL:http://Abjakultuurimaja.ee/uus
X-WR-CALDESC:Events for 
BEGIN:VEVENT
DTSTART;TZID=UTC+3:20190424T170000
DTEND;TZID=UTC+3:20190424T181800
DTSTAMP:20260423T233730
CREATED:20190320T093333Z
LAST-MODIFIED:20190320T093333Z
UID:4368-1556125200-1556129880@Abjakultuurimaja.ee
SUMMARY:Animafilm "Kapten Morten lollide laeval"
DESCRIPTION: \n  \nMorten on uudishimulik ja leidlik poiss. Saatuse tahtel on ta sunnitud elama koos kasuvanematega\, kes ei näe tema loovas tegevuses muud kui pahatahtlikku huligaanitsemist. Emata Morten ei ole siiski orb. Ta isa on kapten\, kes töö tõttu peab suurema osa ajast merel viibima. Morten soovib isa eeskujul samuti kapten olla. Ta ehitab endale mängulaeva\, mille mehitab erinevate putukatega. Unenäoline paralleelmaailm kirjeldab Morteni elu groteskses võtmes. Mingil hetkel maailmad segunevad. Nii Morteni päris kui ka fantaasiamaailm ähvardavad kokku kukkuda. Mõlema maailma päästmiseks on vaja julgelt tegutseda. Morten võidab ohud kangelaslikult. Tema kindlameelse tegutsemise taga on põhimõte – kapten ei jäta kunagi … \nFilmi režissöör: Kaspar Jancis | Riho Unt | Henry Nicholson \nPilet 5\,./3.- \n
URL:http://Abjakultuurimaja.ee/uus/event/animafilm-kapten-morten-lollide-laeval/
END:VEVENT
END:VCALENDAR