BEGIN:VCALENDAR
VERSION:2.0
PRODID:-// - ECPv4.6//NONSGML v1.0//EN
CALSCALE:GREGORIAN
METHOD:PUBLISH
X-WR-CALNAME:
X-ORIGINAL-URL:http://Abjakultuurimaja.ee/uus
X-WR-CALDESC:Events for 
BEGIN:VEVENT
DTSTART;TZID=UTC+3:20190213T180000
DTEND;TZID=UTC+3:20190213T193500
DTSTAMP:20260424T134034
CREATED:20190211T090946Z
LAST-MODIFIED:20190211T090946Z
UID:4206-1550080800-1550086500@Abjakultuurimaja.ee
SUMMARY:Ajalooline rõudmuuvi "Johannes Pääsukese tõeline elu"
DESCRIPTION: \n2.augustil 1912 aastal saatis Eesti Rahva Muuseum kõikidele Eesti ajalehtedele avaldamiseks teate\, milles öeldi: „Muuseumi poolt saadeti juunikuul päevapiltnik Joh.Pääsuke välja\, et huvitavatest maastikkudest\, rahva tööst ja talitustest\, ehitustest\, rahvateaduslikest asjadest ja inimestest ülesvõtteid teha…“ \nHardi Volmeri mängufilm jutustab seiklusliku ja romantilise loo Eesti esimesest filmitegijast Johannes Pääsukesest läbi tema müstilise uurimisretke Setumaale 1912.a. suvel. Tervest retkest ainult seitse minutit? Seda pidi olema rohkem\, aga keegi ei tea\, kuhu kadusid ülejäänud kaadrid. Ka Pääsukese rännupäevik\, mida ta ontlikult täitis\, on kadunud. \nPilet 5€/4€ \n  \n
URL:http://Abjakultuurimaja.ee/uus/event/ajalooline-roudmuuvi-johannes-paasukese-toeline-elu/
LOCATION:Pärnu mnt 28\, Abja-Paluoja\, Viljandimaa\, 69403\, Estonia
END:VEVENT
END:VCALENDAR