BEGIN:VCALENDAR
VERSION:2.0
PRODID:-// - ECPv4.6//NONSGML v1.0//EN
CALSCALE:GREGORIAN
METHOD:PUBLISH
X-WR-CALNAME:
X-ORIGINAL-URL:http://Abjakultuurimaja.ee/uus
X-WR-CALDESC:Events for 
BEGIN:VEVENT
DTSTART;TZID=UTC+3:20190718T170000
DTEND;TZID=UTC+3:20190718T170000
DTSTAMP:20260423T054318
CREATED:20190220T100630Z
LAST-MODIFIED:20190716T140213Z
UID:4298-1563469200-1563469200@Abjakultuurimaja.ee
SUMMARY:Abja Suvepäevad/X Mulgimaa Pealinna Akordionfest
DESCRIPTION: \n
URL:http://Abjakultuurimaja.ee/uus/event/abja-suvepaevadx-mulgimaa-pealinna-akordionfest/
END:VEVENT
END:VCALENDAR