BEGIN:VCALENDAR
VERSION:2.0
PRODID:-// - ECPv4.6//NONSGML v1.0//EN
CALSCALE:GREGORIAN
METHOD:PUBLISH
X-WR-CALNAME:
X-ORIGINAL-URL:http://Abjakultuurimaja.ee/uus
X-WR-CALDESC:Events for 
BEGIN:VEVENT
DTSTART;TZID=UTC+3:20190719T180000
DTEND;TZID=UTC+3:20190719T235900
DTSTAMP:20260423T041056
CREATED:20190220T100834Z
LAST-MODIFIED:20190709T094213Z
UID:4300-1563559200-1563580740@Abjakultuurimaja.ee
SUMMARY:Abja Suvepäevad/X Mulgimaa Pealinna Akordionfest
DESCRIPTION: \n
URL:http://Abjakultuurimaja.ee/uus/event/abja-suvepaevadx-mulgimaa-pealinna-akordionfest-2/
END:VEVENT
END:VCALENDAR