BEGIN:VCALENDAR
VERSION:2.0
PRODID:-// - ECPv4.6//NONSGML v1.0//EN
CALSCALE:GREGORIAN
METHOD:PUBLISH
X-WR-CALNAME:
X-ORIGINAL-URL:http://Abjakultuurimaja.ee/uus
X-WR-CALDESC:Events for 
BEGIN:VEVENT
DTSTART;TZID=UTC+3:20180721T090000
DTEND;TZID=UTC+3:20180721T235900
DTSTAMP:20260420T133208
CREATED:20180119T155001Z
LAST-MODIFIED:20180720T073918Z
UID:3543-1532163600-1532217540@Abjakultuurimaja.ee
SUMMARY:Abja Suvepäevad/ IX Mulgimaa Pealinna Akordionfest
DESCRIPTION: \n
URL:http://Abjakultuurimaja.ee/uus/event/abja-suvepaevad-ix-mulgimaa-pealinna-akordionfest/
END:VEVENT
END:VCALENDAR