BEGIN:VCALENDAR
VERSION:2.0
PRODID:-// - ECPv4.6//NONSGML v1.0//EN
CALSCALE:GREGORIAN
METHOD:PUBLISH
X-WR-CALNAME:
X-ORIGINAL-URL:http://Abjakultuurimaja.ee/uus
X-WR-CALDESC:Events for 
BEGIN:VEVENT
DTSTART;TZID=UTC+3:20180720T110000
DTEND;TZID=UTC+3:20180720T235900
DTSTAMP:20260420T114901
CREATED:20180119T151709Z
LAST-MODIFIED:20180711T112250Z
UID:3531-1532084400-1532131140@Abjakultuurimaja.ee
SUMMARY:Abja Suvepäevad/ IX Mulgimaa Pealinna Akordionfest
DESCRIPTION: \n  \n
URL:http://Abjakultuurimaja.ee/uus/event/abja-suvepaevad-6/
END:VEVENT
END:VCALENDAR