BEGIN:VCALENDAR
VERSION:2.0
PRODID:-// - ECPv4.6//NONSGML v1.0//EN
CALSCALE:GREGORIAN
METHOD:PUBLISH
X-WR-CALNAME:
X-ORIGINAL-URL:http://Abjakultuurimaja.ee/uus
X-WR-CALDESC:Events for 
BEGIN:VEVENT
DTSTART;TZID=UTC+3:20180915T090000
DTEND;TZID=UTC+3:20180915T150000
DTSTAMP:20260421T021528
CREATED:20180122T084323Z
LAST-MODIFIED:20180906T113130Z
UID:3551-1537002000-1537023600@Abjakultuurimaja.ee
SUMMARY:Abja sügislaat keskpargis ja Tiigi tänaval
DESCRIPTION: \n
URL:http://Abjakultuurimaja.ee/uus/event/abja-sugislaat-keskpargis-ja-tiigi-tanaval-2/
END:VEVENT
END:VCALENDAR