BEGIN:VCALENDAR
VERSION:2.0
PRODID:-// - ECPv4.6//NONSGML v1.0//EN
CALSCALE:GREGORIAN
METHOD:PUBLISH
X-WR-CALNAME:
X-ORIGINAL-URL:http://Abjakultuurimaja.ee/uus
X-WR-CALDESC:Events for 
BEGIN:VEVENT
DTSTART;TZID=UTC+3:20190215T170000
DTEND;TZID=UTC+3:20190215T170000
DTSTAMP:20260424T165915
CREATED:20190108T132214Z
LAST-MODIFIED:20190214T125042Z
UID:4185-1550250000-1550250000@Abjakultuurimaja.ee
SUMMARY:Abja Muusikakooli klaveriosakonna sõbrapäeva kontsert
DESCRIPTION: \n
URL:http://Abjakultuurimaja.ee/uus/event/abja-muusikakooli-klaveriosakonna-sobrapaeva-kontsert/
END:VEVENT
END:VCALENDAR