BEGIN:VCALENDAR
VERSION:2.0
PRODID:-// - ECPv4.6//NONSGML v1.0//EN
CALSCALE:GREGORIAN
METHOD:PUBLISH
X-WR-CALNAME:
X-ORIGINAL-URL:http://Abjakultuurimaja.ee/uus
X-WR-CALDESC:Events for 
BEGIN:VEVENT
DTSTART;TZID=UTC+3:20190602T120000
DTEND;TZID=UTC+3:20190602T140000
DTSTAMP:20260423T104418
CREATED:20190220T100235Z
LAST-MODIFIED:20190220T100235Z
UID:4296-1559476800-1559484000@Abjakultuurimaja.ee
SUMMARY:Abja Muusikakooli kevadkontsert
DESCRIPTION:
URL:http://Abjakultuurimaja.ee/uus/event/abja-muusikakooli-kevadkontsert-2/
END:VEVENT
END:VCALENDAR