BEGIN:VCALENDAR
VERSION:2.0
PRODID:-// - ECPv4.6//NONSGML v1.0//EN
CALSCALE:GREGORIAN
METHOD:PUBLISH
X-WR-CALNAME:
X-ORIGINAL-URL:http://Abjakultuurimaja.ee/uus
X-WR-CALDESC:Events for 
BEGIN:VEVENT
DTSTART;TZID=UTC+3:20190903T140000
DTEND;TZID=UTC+3:20190903T143000
DTSTAMP:20260423T002924
CREATED:20190912T155249Z
LAST-MODIFIED:20190912T155249Z
UID:4564-1567519200-1567521000@Abjakultuurimaja.ee
SUMMARY:Abja Muusikakooli avaaktus
DESCRIPTION:
URL:http://Abjakultuurimaja.ee/uus/event/abja-muusikakooli-avaaktus-3/
END:VEVENT
END:VCALENDAR