BEGIN:VCALENDAR
VERSION:2.0
PRODID:-// - ECPv4.6//NONSGML v1.0//EN
CALSCALE:GREGORIAN
METHOD:PUBLISH
X-WR-CALNAME:
X-ORIGINAL-URL:http://Abjakultuurimaja.ee/uus
X-WR-CALDESC:Events for 
BEGIN:VEVENT
DTSTART;TZID=UTC+3:20190411T183000
DTEND;TZID=UTC+3:20190411T210000
DTSTAMP:20260424T093909
CREATED:20190218T155510Z
LAST-MODIFIED:20190218T155510Z
UID:4279-1555007400-1555016400@Abjakultuurimaja.ee
SUMMARY:Abja mälumängu lõppvoor
DESCRIPTION:
URL:http://Abjakultuurimaja.ee/uus/event/abja-malumangu-loppvoor-2/
END:VEVENT
END:VCALENDAR